BEGIN:VCALENDAR
VERSION:2.0
PRODID:oces.hkust.edu.hk
BEGIN:VEVENT
UID:69e70a100fbb9
DTSTART:20260202T093000Z
SEQUENCE:0
TRANSP:OPAQUE
DTEND:20260202T170000Z
SUMMARY:HKUST Ocean Day 2026
CLASS:PUBLIC
DESCRIPTION:HKUST Ocean Day 2026
DTSTAMP:20260421T052432Z
END:VEVENT
END:VCALENDAR