BEGIN:VCALENDAR
VERSION:2.0
PRODID:oces.hkust.edu.hk
BEGIN:VEVENT
UID:69e70a1058cfc
DTSTART:20260128T150000Z
SEQUENCE:0
TRANSP:OPAQUE
DTEND:20260128T160000Z
SUMMARY:OCES Seminar: Submesoscale Processes within Mesoscale Eddies
CLASS:PUBLIC
DESCRIPTION:OCES Seminar: Submesoscale Processes within Mesoscale Eddies
DTSTAMP:20260421T052432Z
END:VEVENT
END:VCALENDAR