BEGIN:VCALENDAR
VERSION:2.0
PRODID:oces.hkust.edu.hk
BEGIN:VEVENT
UID:69e6dbcc425a2
DTSTART:20250728T140000Z
SEQUENCE:0
TRANSP:OPAQUE
DTEND:20250728T140000Z
SUMMARY:MPhil Thesis Defense Seminar: Synergistic Interactions between Ste
 el Slag and Phytoplankton in Ocean Alkalinity Enhancement (OAE)
CLASS:PUBLIC
DESCRIPTION:MPhil Thesis Defense Seminar: Synergistic Interactions between
  Steel Slag and Phytoplankton in Ocean Alkalinity Enhancement (OAE)
DTSTAMP:20260421T020708Z
END:VEVENT
END:VCALENDAR