BEGIN:VCALENDAR
VERSION:2.0
PRODID:oces.hkust.edu.hk
BEGIN:VEVENT
UID:69e70a1028136
DTSTART:20250715T093000Z
SEQUENCE:0
TRANSP:OPAQUE
DTEND:20250715T093000Z
SUMMARY:PhD Thesis Defense Seminar: Shell-ebrating Under Pressure: A Multi
 -Omic Deep Dive into Deep-Sea Molluscs Biomineralization\n 
CLASS:PUBLIC
DESCRIPTION:PhD Thesis Defense Seminar: Shell-ebrating Under Pressure: A M
 ulti-Omic Deep Dive into Deep-Sea Molluscs Biomineralization\n 
DTSTAMP:20260421T052432Z
END:VEVENT
END:VCALENDAR