BEGIN:VCALENDAR
VERSION:2.0
PRODID:oces.hkust.edu.hk
BEGIN:VEVENT
UID:69e70a104115b
DTSTART:20250714T103000Z
SEQUENCE:0
TRANSP:OPAQUE
DTEND:20250714T103000Z
SUMMARY:MPhil Thesis Defense Seminar: Evolution of Marine Bacteria and Pha
 ges: Specific Genomic Adaptations and Group I Intron Origins
CLASS:PUBLIC
DESCRIPTION:MPhil Thesis Defense Seminar: Evolution of Marine Bacteria and
  Phages: Specific Genomic Adaptations and Group I Intron Origins
DTSTAMP:20260421T052432Z
END:VEVENT
END:VCALENDAR