BEGIN:VCALENDAR
VERSION:2.0
PRODID:oces.hkust.edu.hk
BEGIN:VEVENT
UID:69e70a10711ae
DTSTART:20250624T140000Z
SEQUENCE:0
TRANSP:OPAQUE
DTEND:20250624T150000Z
SUMMARY:OCES Seminar: Recent Advances in AI-Based Ocean Forecasting
CLASS:PUBLIC
DESCRIPTION:OCES Seminar: Recent Advances in AI-Based Ocean Forecasting
DTSTAMP:20260421T052432Z
END:VEVENT
END:VCALENDAR