BEGIN:VCALENDAR
VERSION:2.0
PRODID:oces.hkust.edu.hk
BEGIN:VEVENT
UID:69e70a10275ba
DTSTART:20250618T093000Z
SEQUENCE:0
TRANSP:OPAQUE
DTEND:20250618T093000Z
SUMMARY:PhD Thesis Defense Seminar: Nanoscale insights into the impacts of
  microplastics \non marine phytoplankton
CLASS:PUBLIC
DESCRIPTION:PhD Thesis Defense Seminar: Nanoscale insights into the impact
 s of microplastics \non marine phytoplankton
DTSTAMP:20260421T052432Z
END:VEVENT
END:VCALENDAR