BEGIN:VCALENDAR
VERSION:2.0
PRODID:oces.hkust.edu.hk
BEGIN:VEVENT
UID:69e70a1027ef7
DTSTART:20250606T100000Z
SEQUENCE:0
TRANSP:OPAQUE
DTEND:20250606T100000Z
SUMMARY:PhD Thesis Defense Seminar: Responses of Marine Diatoms to Changin
 g pCO2: Elemental Homeostasis and Metal Toxicity 
CLASS:PUBLIC
DESCRIPTION:PhD Thesis Defense Seminar: Responses of Marine Diatoms to Cha
 nging pCO2: Elemental Homeostasis and Metal Toxicity 
DTSTAMP:20260421T052432Z
END:VEVENT
END:VCALENDAR