BEGIN:VCALENDAR
VERSION:2.0
PRODID:oces.hkust.edu.hk
BEGIN:VEVENT
UID:69e6dbbba6f20
DTSTART:20250606T153000Z
SEQUENCE:0
TRANSP:OPAQUE
DTEND:20250606T163000Z
SUMMARY:OCES Seminar: Iron Biogeochemistry in the Surface Water of the Subt
 ropical Ocean: Aerosol\, Seaweed\, and Symbiodinium
CLASS:PUBLIC
DESCRIPTION:OCES Seminar: Iron Biogeochemistry in the Surface Water of the 
 Subtropical Ocean: Aerosol\, Seaweed\, and Symbiodinium
DTSTAMP:20260421T020651Z
END:VEVENT
END:VCALENDAR