BEGIN:VCALENDAR
VERSION:2.0
PRODID:oces.hkust.edu.hk
BEGIN:VEVENT
UID:69ec9d8e5f9c0
DTSTART:20250319T163000Z
SEQUENCE:0
TRANSP:OPAQUE
DTEND:20250319T173000Z
SUMMARY:OCES Seminar: Internal Waves in the Climate System
CLASS:PUBLIC
DESCRIPTION:OCES Seminar: Internal Waves in the Climate System
DTSTAMP:20260425T105510Z
END:VEVENT
END:VCALENDAR