BEGIN:VCALENDAR
VERSION:2.0
PRODID:oces.hkust.edu.hk
BEGIN:VEVENT
UID:69e578057364b
DTSTART:20250227T170000Z
SEQUENCE:0
TRANSP:OPAQUE
DTEND:20250227T175000Z
SUMMARY:Postgraduate Student Seminar: Detoxification of Domoic Acid from P
 seudo-nitzschia by Gut Microbiota in Acartia erythraea
CLASS:PUBLIC
DESCRIPTION:Postgraduate Student Seminar: Detoxification of Domoic Acid fr
 om Pseudo-nitzschia by Gut Microbiota in Acartia erythraea
DTSTAMP:20260420T004909Z
END:VEVENT
END:VCALENDAR