BEGIN:VCALENDAR
VERSION:2.0
PRODID:oces.hkust.edu.hk
BEGIN:VEVENT
UID:69ecf2da2e36b
DTSTART:20250208T093000Z
SEQUENCE:0
TRANSP:OPAQUE
DTEND:20250208T140000Z
SUMMARY:HKUST Ocean Day 2025- Field Trip
CLASS:PUBLIC
DESCRIPTION:HKUST Ocean Day 2025- Field Trip
DTSTAMP:20260425T165906Z
END:VEVENT
END:VCALENDAR